BEGIN:VCALENDAR
VERSION:2.0
PRODID:-//Vaada - ECPv6.15.11//NONSGML v1.0//EN
CALSCALE:GREGORIAN
METHOD:PUBLISH
X-ORIGINAL-URL:https://www.vaada.org.au
X-WR-CALDESC:Events for Vaada
REFRESH-INTERVAL;VALUE=DURATION:PT1H
X-Robots-Tag:noindex
X-PUBLISHED-TTL:PT1H
BEGIN:VTIMEZONE
TZID:Australia/Melbourne
BEGIN:STANDARD
TZOFFSETFROM:+1100
TZOFFSETTO:+1000
TZNAME:AEST
DTSTART:20250405T160000
END:STANDARD
BEGIN:DAYLIGHT
TZOFFSETFROM:+1000
TZOFFSETTO:+1100
TZNAME:AEDT
DTSTART:20251004T160000
END:DAYLIGHT
BEGIN:STANDARD
TZOFFSETFROM:+1100
TZOFFSETTO:+1000
TZNAME:AEST
DTSTART:20260404T160000
END:STANDARD
BEGIN:DAYLIGHT
TZOFFSETFROM:+1000
TZOFFSETTO:+1100
TZNAME:AEDT
DTSTART:20261003T160000
END:DAYLIGHT
BEGIN:STANDARD
TZOFFSETFROM:+1100
TZOFFSETTO:+1000
TZNAME:AEST
DTSTART:20270403T160000
END:STANDARD
BEGIN:DAYLIGHT
TZOFFSETFROM:+1000
TZOFFSETTO:+1100
TZNAME:AEDT
DTSTART:20271002T160000
END:DAYLIGHT
END:VTIMEZONE
BEGIN:VEVENT
DTSTART;TZID=Australia/Melbourne:20260513T160000
DTEND;TZID=Australia/Melbourne:20260513T180000
DTSTAMP:20260422T014357
CREATED:20260415T055128Z
LAST-MODIFIED:20260415T055128Z
UID:71810-1778688000-1778695200@www.vaada.org.au
SUMMARY:ONLINE Pre-Interlock Removal Program
DESCRIPTION:On Track Training is pleased to offer the Online Pre-Interlock Removal Program which is due to commence Wednesday 13th May 2026 – Bookings are now open \nProgram Details: \nDuration: 2hrs \nLocation: via Teams \nPlease contact our office or follow the link for further information or to book in.
URL:https://www.vaada.org.au/event/online-pre-interlock-removal-program-3/
LOCATION:Online Teams
CATEGORIES:Groups
ATTACH;FMTTYPE=image/png:https://www.vaada.org.au/wp-content/uploads/2026/04/On-Track-Training-Logo-8-scaled.png
ORGANIZER;CN="On Track Training":MAILTO:bookings@ontracktraining.com.au
END:VEVENT
END:VCALENDAR