BEGIN:VCALENDAR
VERSION:2.0
PRODID:-//Vaada - ECPv6.15.11//NONSGML v1.0//EN
CALSCALE:GREGORIAN
METHOD:PUBLISH
X-ORIGINAL-URL:https://www.vaada.org.au
X-WR-CALDESC:Events for Vaada
REFRESH-INTERVAL;VALUE=DURATION:PT1H
X-Robots-Tag:noindex
X-PUBLISHED-TTL:PT1H
BEGIN:VTIMEZONE
TZID:Australia/Melbourne
BEGIN:STANDARD
TZOFFSETFROM:+1100
TZOFFSETTO:+1000
TZNAME:AEST
DTSTART:20250405T160000
END:STANDARD
BEGIN:DAYLIGHT
TZOFFSETFROM:+1000
TZOFFSETTO:+1100
TZNAME:AEDT
DTSTART:20251004T160000
END:DAYLIGHT
BEGIN:STANDARD
TZOFFSETFROM:+1100
TZOFFSETTO:+1000
TZNAME:AEST
DTSTART:20260404T160000
END:STANDARD
BEGIN:DAYLIGHT
TZOFFSETFROM:+1000
TZOFFSETTO:+1100
TZNAME:AEDT
DTSTART:20261003T160000
END:DAYLIGHT
BEGIN:STANDARD
TZOFFSETFROM:+1100
TZOFFSETTO:+1000
TZNAME:AEST
DTSTART:20270403T160000
END:STANDARD
BEGIN:DAYLIGHT
TZOFFSETFROM:+1000
TZOFFSETTO:+1100
TZNAME:AEDT
DTSTART:20271002T160000
END:DAYLIGHT
END:VTIMEZONE
BEGIN:VEVENT
DTSTART;TZID=Australia/Melbourne:20260420T100000
DTEND;TZID=Australia/Melbourne:20260420T133000
DTSTAMP:20260421T230500
CREATED:20260402T050846Z
LAST-MODIFIED:20260402T050846Z
UID:71889-1776679200-1776691800@www.vaada.org.au
SUMMARY:Drink Drive Behaviour Change Program - Box Hill
DESCRIPTION:On Track Training is pleased offer the Drink Drive Behaviour Change Program commencing Monday 13th April 2026. \nProgram Details: \nDuration: 2 Sessions (3.5 hours each day) \nTime: 10am – 1:30pm \nLocation: Box Hill Library\, 1040 Whitehorse Road\, Box Hill\, 3128 \nPlease contact our office or follow the link for further details or to book in.
URL:https://www.vaada.org.au/event/drink-drive-behaviour-change-program-box-hill/2026-04-20/
LOCATION:Box Hill Library\, 1040 Whitehorse Road\, Box Hill\, 3128
CATEGORIES:Groups
ATTACH;FMTTYPE=image/png:https://www.vaada.org.au/wp-content/uploads/2026/03/On-Track-Training-Logo-7-scaled.png
ORGANIZER;CN="On Track Training":MAILTO:bookings@ontracktraining.com.au
GEO:-37.8191921;145.1277589
X-APPLE-STRUCTURED-LOCATION;VALUE=URI;X-ADDRESS=Box Hill Library 1040 Whitehorse Road Box Hill 3128;X-APPLE-RADIUS=500;X-TITLE=1040 Whitehorse Road:geo:145.1277589,-37.8191921
END:VEVENT
BEGIN:VEVENT
DTSTART;TZID=Australia/Melbourne:20260413T100000
DTEND;TZID=Australia/Melbourne:20260413T133000
DTSTAMP:20260421T230500
CREATED:20260402T050846Z
LAST-MODIFIED:20260421T025410Z
UID:71421-1776074400-1776087000@www.vaada.org.au
SUMMARY:Drink Drive Behaviour Change Program - Box Hill
DESCRIPTION:On Track Training is pleased offer the Drink Drive Behaviour Change Program commencing Monday 13th April 2026. \nProgram Details: \nDuration: 2 Sessions (3.5 hours each day) \nTime: 10am – 1:30pm \nLocation: Box Hill Library\, 1040 Whitehorse Road\, Box Hill\, 3128 \nPlease contact our office or follow the link for further details or to book in.
URL:https://www.vaada.org.au/event/drink-drive-behaviour-change-program-box-hill/2026-04-13/
LOCATION:Box Hill Library\, 1040 Whitehorse Road\, Box Hill\, 3128
CATEGORIES:Groups
ATTACH;FMTTYPE=image/png:https://www.vaada.org.au/wp-content/uploads/2026/03/On-Track-Training-Logo-7-scaled.png
ORGANIZER;CN="On Track Training":MAILTO:bookings@ontracktraining.com.au
GEO:-37.8191921;145.1277589
X-APPLE-STRUCTURED-LOCATION;VALUE=URI;X-ADDRESS=Box Hill Library 1040 Whitehorse Road Box Hill 3128;X-APPLE-RADIUS=500;X-TITLE=1040 Whitehorse Road:geo:145.1277589,-37.8191921
END:VEVENT
BEGIN:VEVENT
DTSTART;TZID=Australia/Melbourne:20260303T100000
DTEND;TZID=Australia/Melbourne:20260303T133000
DTSTAMP:20260421T230500
CREATED:20260122T051522Z
LAST-MODIFIED:20260204T215629Z
UID:69494-1772532000-1772544600@www.vaada.org.au
SUMMARY:Drink Drive Behaviour Change Program - Essendon
DESCRIPTION:On Track Training is pleased offer the Drink Drive Behaviour Change Program commencing 24th February 2026 in Essendon. \nProgram Details: \nDuration: 2 Sessions (3.5 hours each day) \nTime: 10am – 1:30pm \nLocation: St Theresa’s PACE – 48C Lincoln Road\, Essendon\, 3040 \nPlease contact our office or follow the link for further details or to book in.
URL:https://www.vaada.org.au/event/drink-drive-behaviour-change-program-essendon-2/2026-03-03/
LOCATION:St Theresa’s PACE\, 48C Lincoln Road\, Essendon\, 3040
CATEGORIES:Groups
ATTACH;FMTTYPE=image/png:https://www.vaada.org.au/wp-content/uploads/2026/01/On-Track-Training-Logo-4-scaled.png
ORGANIZER;CN="On Track Training":MAILTO:bookings@ontracktraining.com.au
GEO:-37.7509767;144.9091507
X-APPLE-STRUCTURED-LOCATION;VALUE=URI;X-ADDRESS=St Theresa’s PACE 48C Lincoln Road Essendon 3040;X-APPLE-RADIUS=500;X-TITLE=48C Lincoln Road:geo:144.9091507,-37.7509767
END:VEVENT
BEGIN:VEVENT
DTSTART;TZID=Australia/Melbourne:20260224T100000
DTEND;TZID=Australia/Melbourne:20260224T133000
DTSTAMP:20260421T230500
CREATED:20260122T051522Z
LAST-MODIFIED:20260204T215629Z
UID:69281-1771927200-1771939800@www.vaada.org.au
SUMMARY:Drink Drive Behaviour Change Program - Essendon
DESCRIPTION:On Track Training is pleased offer the Drink Drive Behaviour Change Program commencing 24th February 2026 in Essendon. \nProgram Details: \nDuration: 2 Sessions (3.5 hours each day) \nTime: 10am – 1:30pm \nLocation: St Theresa’s PACE – 48C Lincoln Road\, Essendon\, 3040 \nPlease contact our office or follow the link for further details or to book in.
URL:https://www.vaada.org.au/event/drink-drive-behaviour-change-program-essendon-2/2026-02-24/
LOCATION:St Theresa’s PACE\, 48C Lincoln Road\, Essendon\, 3040
CATEGORIES:Groups
ATTACH;FMTTYPE=image/png:https://www.vaada.org.au/wp-content/uploads/2026/01/On-Track-Training-Logo-4-scaled.png
ORGANIZER;CN="On Track Training":MAILTO:bookings@ontracktraining.com.au
GEO:-37.7509767;144.9091507
X-APPLE-STRUCTURED-LOCATION;VALUE=URI;X-ADDRESS=St Theresa’s PACE 48C Lincoln Road Essendon 3040;X-APPLE-RADIUS=500;X-TITLE=48C Lincoln Road:geo:144.9091507,-37.7509767
END:VEVENT
BEGIN:VEVENT
DTSTART;TZID=Australia/Melbourne:20260212T093000
DTEND;TZID=Australia/Melbourne:20260213T163000
DTSTAMP:20260421T230500
CREATED:20251215T024930Z
LAST-MODIFIED:20251215T024930Z
UID:69488-1770888600-1771000200@www.vaada.org.au
SUMMARY:Standard Mental Health First Aid Course (MHFA)
DESCRIPTION:On Track Training is pleased to offer the Standard MHFA course – Registrations are open \nCourse Details: \nDuration: 2 days (6 hours each day) \nLocation: St James Lutheran \, 416 South Road\, Moorabbin\, 3189 \nFee: $385 per person \nThis internationally accredited program teaches participants how to: \n\nRecognise the signs and symptoms of common mental health conditions\nStart conversations that make a difference\nProvide initial help and support\nGuide a person towards professional help\n\nParticipants will gain the practical skills to identify\, understand and respond to early signs of mental health concerns\, provide effective support in a crisis and strengthen their ability to foster safe\, supportive communities. \nRegister now through the On Track Training website: https://ontracktraining.au/mental-health-first-aid/
URL:https://www.vaada.org.au/event/standard-mental-health-first-aid-course-mhfa-2/2026-02-12/
LOCATION:St James Moorabbin Lutheran\, 416 South Road\, Moorabbin\, 3189
CATEGORIES:Training
ATTACH;FMTTYPE=image/png:https://www.vaada.org.au/wp-content/uploads/2025/12/On-Track-Training-Logo-scaled.png
ORGANIZER;CN="On Track Training":MAILTO:bookings@ontracktraining.com.au
GEO:-37.9343962;145.0412149
X-APPLE-STRUCTURED-LOCATION;VALUE=URI;X-ADDRESS=St James Moorabbin Lutheran 416 South Road Moorabbin 3189;X-APPLE-RADIUS=500;X-TITLE=416 South Road:geo:145.0412149,-37.9343962
END:VEVENT
BEGIN:VEVENT
DTSTART;TZID=Australia/Melbourne:20260205T093000
DTEND;TZID=Australia/Melbourne:20260206T163000
DTSTAMP:20260421T230500
CREATED:20251215T024930Z
LAST-MODIFIED:20260202T021455Z
UID:68749-1770283800-1770395400@www.vaada.org.au
SUMMARY:Standard Mental Health First Aid Course (MHFA)
DESCRIPTION:On Track Training is pleased to offer the Standard MHFA course – Registrations are open \nCourse Details: \nDuration: 2 days (6 hours each day) \nLocation: St James Lutheran \, 416 South Road\, Moorabbin\, 3189 \nFee: $385 per person \nThis internationally accredited program teaches participants how to: \n\nRecognise the signs and symptoms of common mental health conditions\nStart conversations that make a difference\nProvide initial help and support\nGuide a person towards professional help\n\nParticipants will gain the practical skills to identify\, understand and respond to early signs of mental health concerns\, provide effective support in a crisis and strengthen their ability to foster safe\, supportive communities. \nRegister now through the On Track Training website: https://ontracktraining.au/mental-health-first-aid/
URL:https://www.vaada.org.au/event/standard-mental-health-first-aid-course-mhfa-2/2026-02-05/
LOCATION:St James Moorabbin Lutheran\, 416 South Road\, Moorabbin\, 3189
CATEGORIES:Training
ATTACH;FMTTYPE=image/png:https://www.vaada.org.au/wp-content/uploads/2025/12/On-Track-Training-Logo-scaled.png
ORGANIZER;CN="On Track Training":MAILTO:bookings@ontracktraining.com.au
GEO:-37.9343962;145.0412149
X-APPLE-STRUCTURED-LOCATION;VALUE=URI;X-ADDRESS=St James Moorabbin Lutheran 416 South Road Moorabbin 3189;X-APPLE-RADIUS=500;X-TITLE=416 South Road:geo:145.0412149,-37.9343962
END:VEVENT
END:VCALENDAR