BEGIN:VCALENDAR
VERSION:2.0
PRODID:-//Vaada - ECPv6.15.11//NONSGML v1.0//EN
CALSCALE:GREGORIAN
METHOD:PUBLISH
X-ORIGINAL-URL:https://www.vaada.org.au
X-WR-CALDESC:Events for Vaada
REFRESH-INTERVAL;VALUE=DURATION:PT1H
X-Robots-Tag:noindex
X-PUBLISHED-TTL:PT1H
BEGIN:VTIMEZONE
TZID:Australia/Melbourne
BEGIN:STANDARD
TZOFFSETFROM:+1100
TZOFFSETTO:+1000
TZNAME:AEST
DTSTART:20240406T160000
END:STANDARD
BEGIN:DAYLIGHT
TZOFFSETFROM:+1000
TZOFFSETTO:+1100
TZNAME:AEDT
DTSTART:20241005T160000
END:DAYLIGHT
BEGIN:STANDARD
TZOFFSETFROM:+1100
TZOFFSETTO:+1000
TZNAME:AEST
DTSTART:20250405T160000
END:STANDARD
BEGIN:DAYLIGHT
TZOFFSETFROM:+1000
TZOFFSETTO:+1100
TZNAME:AEDT
DTSTART:20251004T160000
END:DAYLIGHT
BEGIN:STANDARD
TZOFFSETFROM:+1100
TZOFFSETTO:+1000
TZNAME:AEST
DTSTART:20260404T160000
END:STANDARD
BEGIN:DAYLIGHT
TZOFFSETFROM:+1000
TZOFFSETTO:+1100
TZNAME:AEDT
DTSTART:20261003T160000
END:DAYLIGHT
BEGIN:STANDARD
TZOFFSETFROM:+1100
TZOFFSETTO:+1000
TZNAME:AEST
DTSTART:20270403T160000
END:STANDARD
BEGIN:DAYLIGHT
TZOFFSETFROM:+1000
TZOFFSETTO:+1100
TZNAME:AEDT
DTSTART:20271002T160000
END:DAYLIGHT
END:VTIMEZONE
BEGIN:VEVENT
DTSTART;TZID=Australia/Melbourne:20260113T100000
DTEND;TZID=Australia/Melbourne:20260113T133000
DTSTAMP:20260422T061123
CREATED:20260118T231800Z
LAST-MODIFIED:20260118T231800Z
UID:68915-1768298400-1768311000@www.vaada.org.au
SUMMARY:Drink Drive Behaviour Change Program
DESCRIPTION:On Track Training is pleased offer the Drink Drive Behaviour Change Program commencing 12th January 2026. \nProgram Details: \nDuration: 2 Sessions (3.5 hours each day) \nTime: 10am – 1:30pm \nLocation: Box Hill Library\, 1040 Whitehorse Road\, Box Hill\, 3128 \nPlease contact our office or follow the link for further details or to book in.
URL:https://www.vaada.org.au/event/drink-drive-behaviour-change-program/2026-01-13/
CATEGORIES:Groups
ATTACH;FMTTYPE=image/png:https://www.vaada.org.au/wp-content/uploads/2025/12/On-Track-Training-Logo-1-scaled.png
ORGANIZER;CN="On Track Training":MAILTO:bookings@ontracktraining.com.au
END:VEVENT
BEGIN:VEVENT
DTSTART;TZID=Australia/Melbourne:20260112T100000
DTEND;TZID=Australia/Melbourne:20260112T133000
DTSTAMP:20260422T061123
CREATED:20260118T231800Z
LAST-MODIFIED:20260118T231800Z
UID:68909-1768212000-1768224600@www.vaada.org.au
SUMMARY:Drink Drive Behaviour Change Program
DESCRIPTION:On Track Training is pleased offer the Drink Drive Behaviour Change Program commencing 12th January 2026. \nProgram Details: \nDuration: 2 Sessions (3.5 hours each day) \nTime: 10am – 1:30pm \nLocation: Box Hill Library\, 1040 Whitehorse Road\, Box Hill\, 3128 \nPlease contact our office or follow the link for further details or to book in.
URL:https://www.vaada.org.au/event/drink-drive-behaviour-change-program/2026-01-12/
CATEGORIES:Groups
ATTACH;FMTTYPE=image/png:https://www.vaada.org.au/wp-content/uploads/2025/12/On-Track-Training-Logo-1-scaled.png
ORGANIZER;CN="On Track Training":MAILTO:bookings@ontracktraining.com.au
END:VEVENT
BEGIN:VEVENT
DTSTART;TZID=Australia/Melbourne:20251120T093000
DTEND;TZID=Australia/Melbourne:20251120T163000
DTSTAMP:20260422T061123
CREATED:20251014T214704Z
LAST-MODIFIED:20251215T001346Z
UID:67874-1763631000-1763656200@www.vaada.org.au
SUMMARY:Standard Mental Health First Aid Course (MHFA)
DESCRIPTION:On Track Training is pleased to offer the Standard MHFA course – Registrations are open \nCourse Details: \nDuration: 2 days (6 hours each day) \nLocation: Mt Waverley Community Centre\, 47 Miller Street\, Mount Waverley \nFee: $385 per person \nThis internationally accredited program teaches participants how to: \n\nRecognise the signs and symptoms of common mental health conditions\nStart conversations that make a difference\nProvide initial help and support\nGuide a person towards professional help\n\nParticipants will gain the practical skills to identify\, understand and respond to early signs of mental health concerns\, provide effective support in a crisis and strengthen their ability to foster safe\, supportive communities. \nRegister now through the On Track Training website: https://ontracktraining.au/mental-health-first-aid/
URL:https://www.vaada.org.au/event/standard-mental-health-first-aid-course-mhfa/2025-11-20/
LOCATION:Mt Waverley Community Centre\, 47 Miller Crescent\, Mount Waverley\, 3149\, Australia
CATEGORIES:Training
ATTACH;FMTTYPE=image/png:https://www.vaada.org.au/wp-content/uploads/2025/10/On-Track-Training-Logo-scaled.png
ORGANIZER;CN="On Track Training":MAILTO:bookings@ontracktraining.com.au
GEO:-37.874509;145.1281091
X-APPLE-STRUCTURED-LOCATION;VALUE=URI;X-ADDRESS=Mt Waverley Community Centre 47 Miller Crescent Mount Waverley 3149 Australia;X-APPLE-RADIUS=500;X-TITLE=47 Miller Crescent:geo:145.1281091,-37.874509
END:VEVENT
BEGIN:VEVENT
DTSTART;TZID=Australia/Melbourne:20251113T093000
DTEND;TZID=Australia/Melbourne:20251113T163000
DTSTAMP:20260422T061123
CREATED:20251014T214704Z
LAST-MODIFIED:20251215T001346Z
UID:67784-1763026200-1763051400@www.vaada.org.au
SUMMARY:Standard Mental Health First Aid Course (MHFA)
DESCRIPTION:On Track Training is pleased to offer the Standard MHFA course – Registrations are open \nCourse Details: \nDuration: 2 days (6 hours each day) \nLocation: Mt Waverley Community Centre\, 47 Miller Street\, Mount Waverley \nFee: $385 per person \nThis internationally accredited program teaches participants how to: \n\nRecognise the signs and symptoms of common mental health conditions\nStart conversations that make a difference\nProvide initial help and support\nGuide a person towards professional help\n\nParticipants will gain the practical skills to identify\, understand and respond to early signs of mental health concerns\, provide effective support in a crisis and strengthen their ability to foster safe\, supportive communities. \nRegister now through the On Track Training website: https://ontracktraining.au/mental-health-first-aid/
URL:https://www.vaada.org.au/event/standard-mental-health-first-aid-course-mhfa/2025-11-13/
LOCATION:Mt Waverley Community Centre\, 47 Miller Crescent\, Mount Waverley\, 3149\, Australia
CATEGORIES:Training
ATTACH;FMTTYPE=image/png:https://www.vaada.org.au/wp-content/uploads/2025/10/On-Track-Training-Logo-scaled.png
ORGANIZER;CN="On Track Training":MAILTO:bookings@ontracktraining.com.au
GEO:-37.874509;145.1281091
X-APPLE-STRUCTURED-LOCATION;VALUE=URI;X-ADDRESS=Mt Waverley Community Centre 47 Miller Crescent Mount Waverley 3149 Australia;X-APPLE-RADIUS=500;X-TITLE=47 Miller Crescent:geo:145.1281091,-37.874509
END:VEVENT
END:VCALENDAR